BEGIN:VCALENDAR
VERSION:2.0
PRODID:-//Western Quarterly Meeting - ECPv6.15.20//NONSGML v1.0//EN
CALSCALE:GREGORIAN
METHOD:PUBLISH
X-WR-CALNAME:Western Quarterly Meeting
X-ORIGINAL-URL:http://westernquarterquakers.org
X-WR-CALDESC:Events for Western Quarterly Meeting
REFRESH-INTERVAL;VALUE=DURATION:PT1H
X-Robots-Tag:noindex
X-PUBLISHED-TTL:PT1H
BEGIN:VTIMEZONE
TZID:America/New_York
BEGIN:DAYLIGHT
TZOFFSETFROM:-0500
TZOFFSETTO:-0400
TZNAME:EDT
DTSTART:20240310T070000
END:DAYLIGHT
BEGIN:STANDARD
TZOFFSETFROM:-0400
TZOFFSETTO:-0500
TZNAME:EST
DTSTART:20241103T060000
END:STANDARD
BEGIN:DAYLIGHT
TZOFFSETFROM:-0500
TZOFFSETTO:-0400
TZNAME:EDT
DTSTART:20250309T070000
END:DAYLIGHT
BEGIN:STANDARD
TZOFFSETFROM:-0400
TZOFFSETTO:-0500
TZNAME:EST
DTSTART:20251102T060000
END:STANDARD
BEGIN:DAYLIGHT
TZOFFSETFROM:-0500
TZOFFSETTO:-0400
TZNAME:EDT
DTSTART:20260308T070000
END:DAYLIGHT
BEGIN:STANDARD
TZOFFSETFROM:-0400
TZOFFSETTO:-0500
TZNAME:EST
DTSTART:20261101T060000
END:STANDARD
END:VTIMEZONE
BEGIN:VEVENT
DTSTART;VALUE=DATE:20250315
DTEND;VALUE=DATE:20250316
DTSTAMP:20260424T082527
CREATED:20250208T151919Z
LAST-MODIFIED:20250208T152938Z
UID:13592-1741996800-1742083199@westernquarterquakers.org
SUMMARY:Tyndale Conference
DESCRIPTION:Tyndale Conference at Lincoln University on March 15\n– https://www.tyndaleusa.org/march-2025-event.html\nThe Tyndale Society 2025 Annual Conference\nSaturday\, March 15th\, 2025 | 9:30AM – 2:15PM\nThe Tyndale Society 2025 Annual Conference is an event open to the public\, featuring talks from distinguished speakers  \nat Lincoln University on March 15th\, 2025 from 9:30am to 2:15pm. \nAdvanced Registration is strongly suggested due to limited available space.  \nStudents – $15 \nAdults – $40 Register for This Event \nFamilies – $50 \n(boxed lunch available for $15 additional per person) \n\n\n\n\n\nAmazing Grace of John Newton \nBruce Hindmarsh\, Ph.D. \nProfessor of History\, Regent College\, Vancouver\, Canada \n(9:45am)\n\n\n\n\n\n\n\n\n\n\n​The Legacy of Frederick Douglass \nRuth Naomi Floyd \nWorld Famous Vocal Artist \n​(11:00am)\n\n\n\n\n\n\n\n\n\n\nTyndale\, William Shakespeare \nand the English Language \nHon. Thomas E. Martin\, Jr.\, J.D. \nMagisterial District Judge (retired) \n​(after lunch)
URL:http://westernquarterquakers.org/event/tyndale-conference/
LOCATION:PA
END:VEVENT
END:VCALENDAR