BEGIN:VCALENDAR
VERSION:2.0
PRODID:-//Western Quarterly Meeting - ECPv6.15.20//NONSGML v1.0//EN
CALSCALE:GREGORIAN
METHOD:PUBLISH
X-ORIGINAL-URL:http://westernquarterquakers.org
X-WR-CALDESC:Events for Western Quarterly Meeting
REFRESH-INTERVAL;VALUE=DURATION:PT1H
X-Robots-Tag:noindex
X-PUBLISHED-TTL:PT1H
BEGIN:VTIMEZONE
TZID:America/New_York
BEGIN:DAYLIGHT
TZOFFSETFROM:-0500
TZOFFSETTO:-0400
TZNAME:EDT
DTSTART:20240310T070000
END:DAYLIGHT
BEGIN:STANDARD
TZOFFSETFROM:-0400
TZOFFSETTO:-0500
TZNAME:EST
DTSTART:20241103T060000
END:STANDARD
BEGIN:DAYLIGHT
TZOFFSETFROM:-0500
TZOFFSETTO:-0400
TZNAME:EDT
DTSTART:20250309T070000
END:DAYLIGHT
BEGIN:STANDARD
TZOFFSETFROM:-0400
TZOFFSETTO:-0500
TZNAME:EST
DTSTART:20251102T060000
END:STANDARD
BEGIN:DAYLIGHT
TZOFFSETFROM:-0500
TZOFFSETTO:-0400
TZNAME:EDT
DTSTART:20260308T070000
END:DAYLIGHT
BEGIN:STANDARD
TZOFFSETFROM:-0400
TZOFFSETTO:-0500
TZNAME:EST
DTSTART:20261101T060000
END:STANDARD
END:VTIMEZONE
BEGIN:VEVENT
DTSTART;TZID=America/New_York:20250319T190000
DTEND;TZID=America/New_York:20250319T203000
DTSTAMP:20260424T082641
CREATED:20250208T155916Z
LAST-MODIFIED:20250208T160125Z
UID:13599-1742410800-1742416200@westernquarterquakers.org
SUMMARY:Going My Way: Options for our bodies at the end of Life
DESCRIPTION:Going My Way\nsponsored by the Concord Quarter Working Group on Aging Concerns\nWednesday\, March 19\, 2025\nRegister at the link below\nhttps://us06web.zoom.us/meeting/register/npFwC1wfRUiTlbnIsK04kQ\nFLYER
URL:http://westernquarterquakers.org/event/going-my-way-options-for-our-bodies-at-the-end-of-life/
LOCATION:PA
ATTACH;FMTTYPE=image/png:http://westernquarterquakers.org/wp-content/uploads/2025/02/Screenshot-2025-02-08-10.51.28-AM.png
END:VEVENT
END:VCALENDAR