BEGIN:VCALENDAR
VERSION:2.0
PRODID:-//Western Quarterly Meeting - ECPv6.15.20//NONSGML v1.0//EN
CALSCALE:GREGORIAN
METHOD:PUBLISH
X-ORIGINAL-URL:http://westernquarterquakers.org
X-WR-CALDESC:Events for Western Quarterly Meeting
REFRESH-INTERVAL;VALUE=DURATION:PT1H
X-Robots-Tag:noindex
X-PUBLISHED-TTL:PT1H
BEGIN:VTIMEZONE
TZID:America/New_York
BEGIN:DAYLIGHT
TZOFFSETFROM:-0500
TZOFFSETTO:-0400
TZNAME:EDT
DTSTART:20240310T070000
END:DAYLIGHT
BEGIN:STANDARD
TZOFFSETFROM:-0400
TZOFFSETTO:-0500
TZNAME:EST
DTSTART:20241103T060000
END:STANDARD
BEGIN:DAYLIGHT
TZOFFSETFROM:-0500
TZOFFSETTO:-0400
TZNAME:EDT
DTSTART:20250309T070000
END:DAYLIGHT
BEGIN:STANDARD
TZOFFSETFROM:-0400
TZOFFSETTO:-0500
TZNAME:EST
DTSTART:20251102T060000
END:STANDARD
BEGIN:DAYLIGHT
TZOFFSETFROM:-0500
TZOFFSETTO:-0400
TZNAME:EDT
DTSTART:20260308T070000
END:DAYLIGHT
BEGIN:STANDARD
TZOFFSETFROM:-0400
TZOFFSETTO:-0500
TZNAME:EST
DTSTART:20261101T060000
END:STANDARD
END:VTIMEZONE
BEGIN:VEVENT
DTSTART;TZID=America/New_York:20250622T150000
DTEND;TZID=America/New_York:20250622T163000
DTSTAMP:20260424T035509
CREATED:20250518T124126Z
LAST-MODIFIED:20250527T193042Z
UID:13693-1750604400-1750609800@westernquarterquakers.org
SUMMARY:Bayard Rustin: A Legacy of Protest and Politics - Discussion
DESCRIPTION:Join us at the Farm House at Kendal – June 22 at 3:00pm\nfor a discussion of Bayard Rustin: A Legacy of Protest and Politics\nwith tonya thames taylor\, Fallowfield MM\, and Associate Professor of History at West Chester University\, founding director of the African American Studies Program\, and member of the Executive Committee of the Frederick Douglass Institute.\nThe book is available at many local libraries\, from NYU Press\, Better World Books\, or check with your favorite bookseller.\n Bayard Rustin Reading Guide and Questions\nKendal’s address is 1109 East Baltimore Pike\, Kennett Square. Go left towards the main entrance. Please park in Lot 6.
URL:http://westernquarterquakers.org/event/bayard-rustin-a-legacy-of-protest-and-politics-discussion/
LOCATION:Kendal at Longwood\, 1109 Baltimore Pike\, Kennett Square\, PA\, 19348\, United States
END:VEVENT
END:VCALENDAR