BEGIN:VCALENDAR
VERSION:2.0
PRODID:-//Western Quarterly Meeting - ECPv6.15.20//NONSGML v1.0//EN
CALSCALE:GREGORIAN
METHOD:PUBLISH
X-WR-CALNAME:Western Quarterly Meeting
X-ORIGINAL-URL:http://westernquarterquakers.org
X-WR-CALDESC:Events for Western Quarterly Meeting
REFRESH-INTERVAL;VALUE=DURATION:PT1H
X-Robots-Tag:noindex
X-PUBLISHED-TTL:PT1H
BEGIN:VTIMEZONE
TZID:America/New_York
BEGIN:DAYLIGHT
TZOFFSETFROM:-0500
TZOFFSETTO:-0400
TZNAME:EDT
DTSTART:20240310T070000
END:DAYLIGHT
BEGIN:STANDARD
TZOFFSETFROM:-0400
TZOFFSETTO:-0500
TZNAME:EST
DTSTART:20241103T060000
END:STANDARD
BEGIN:DAYLIGHT
TZOFFSETFROM:-0500
TZOFFSETTO:-0400
TZNAME:EDT
DTSTART:20250309T070000
END:DAYLIGHT
BEGIN:STANDARD
TZOFFSETFROM:-0400
TZOFFSETTO:-0500
TZNAME:EST
DTSTART:20251102T060000
END:STANDARD
BEGIN:DAYLIGHT
TZOFFSETFROM:-0500
TZOFFSETTO:-0400
TZNAME:EDT
DTSTART:20260308T070000
END:DAYLIGHT
BEGIN:STANDARD
TZOFFSETFROM:-0400
TZOFFSETTO:-0500
TZNAME:EST
DTSTART:20261101T060000
END:STANDARD
END:VTIMEZONE
BEGIN:VEVENT
DTSTART;TZID=America/New_York:20251019T084500
DTEND;TZID=America/New_York:20251019T143000
DTSTAMP:20260423T214851
CREATED:20240916T000628Z
LAST-MODIFIED:20250921T214019Z
UID:13442-1760863500-1760884200@westernquarterquakers.org
SUMMARY:Western Quarterly Meeting at London Grove
DESCRIPTION:8:45 – 9:30 AM Welcome and Morning Fellowship\n        Coffee\, Cider\, and Baked Goods\n9:30 – 10:15 AM Meeting for Worship – All Together!\n10:15-11:45AM Childrens Program –  a play!\nThe Mixing Stick to be performed about 11:45am\n10:45 -11:45 AM Program:\nSupporting Our Migrant Neighbors\nGonzalo Cano from KACS (Kennett Area Community Services)\nand\nMelissa Pacella from SILO (Serving\, Inspiring\, and Loving\nOthers) in Oxford)\nEach will talk about current emergency situations among the\npeople they serve–our neighbors\, and how we can help.\n12:00 – 1:00 Lunch\nLondon Grove invites us to share in their traditional October\nFrugal Meal.\n1:00pm – meeting for worship with attention to business\nZoom Link: https://us02web.zoom.us/j/89274173199\nQuarterly Meeting Flyer
URL:http://westernquarterquakers.org/event/quarterly-meeting-at-london-grove/
LOCATION:London Grove Friends Meeting\, 500 W. Street Road \, Kennett Square\, 19344\, United States
ATTACH;FMTTYPE=image/png:http://westernquarterquakers.org/wp-content/uploads/2025/09/Screenshot-2025-09-15-8.39.22-PM.png
END:VEVENT
BEGIN:VEVENT
DTSTART;TZID=America/New_York:20251019T150000
DTEND;TZID=America/New_York:20251019T170000
DTSTAMP:20260423T214851
CREATED:20251011T133931Z
LAST-MODIFIED:20251110T232641Z
UID:13815-1760886000-1760893200@westernquarterquakers.org
SUMMARY:Community Rising
DESCRIPTION:Community Rising facilitated session. Sunday\, October 19th\, 3-5 pm. Kennett Friends Meeting\, 125 W. Sickle Street\, Kennett Square PA 19390. \nCommunity Rising is a monthly facilitated gathering that brings together neighbors\, leaders\, and voices from diverse walks of life to reflect on the challenges facing our nation and our local communities. Rooted in honesty and hope\, the circle creates space for people to share concerns\, listen deeply across differences\, and imagine new possibilities for renewal. Each session blends open dialogue with guided reflection\, helping participants move beyond division toward common ground. By coming together regularly\, Community Rising seeks to nurture connection\, courage\, and collective action for the common good.
URL:http://westernquarterquakers.org/event/community-rising/
LOCATION:Kennett Friends Meeting\, 125 W. Sickle Street\, Kennett Square \, PA\, 19348\, United States
END:VEVENT
END:VCALENDAR