BEGIN:VCALENDAR
VERSION:2.0
PRODID:-//Western Quarterly Meeting - ECPv6.15.20//NONSGML v1.0//EN
CALSCALE:GREGORIAN
METHOD:PUBLISH
X-ORIGINAL-URL:http://westernquarterquakers.org
X-WR-CALDESC:Events for Western Quarterly Meeting
REFRESH-INTERVAL;VALUE=DURATION:PT1H
X-Robots-Tag:noindex
X-PUBLISHED-TTL:PT1H
BEGIN:VTIMEZONE
TZID:America/New_York
BEGIN:DAYLIGHT
TZOFFSETFROM:-0500
TZOFFSETTO:-0400
TZNAME:EDT
DTSTART:20240310T070000
END:DAYLIGHT
BEGIN:STANDARD
TZOFFSETFROM:-0400
TZOFFSETTO:-0500
TZNAME:EST
DTSTART:20241103T060000
END:STANDARD
BEGIN:DAYLIGHT
TZOFFSETFROM:-0500
TZOFFSETTO:-0400
TZNAME:EDT
DTSTART:20250309T070000
END:DAYLIGHT
BEGIN:STANDARD
TZOFFSETFROM:-0400
TZOFFSETTO:-0500
TZNAME:EST
DTSTART:20251102T060000
END:STANDARD
BEGIN:DAYLIGHT
TZOFFSETFROM:-0500
TZOFFSETTO:-0400
TZNAME:EDT
DTSTART:20260308T070000
END:DAYLIGHT
BEGIN:STANDARD
TZOFFSETFROM:-0400
TZOFFSETTO:-0500
TZNAME:EST
DTSTART:20261101T060000
END:STANDARD
END:VTIMEZONE
BEGIN:VEVENT
DTSTART;TZID=America/New_York:20251212T190000
DTEND;TZID=America/New_York:20251212T210000
DTSTAMP:20260423T185333
CREATED:20251203T181829Z
LAST-MODIFIED:20251203T182135Z
UID:13856-1765566000-1765573200@westernquarterquakers.org
SUMMARY:West Grove Meeting Christmas Candlelight Sing Along
DESCRIPTION:Friday\, December 12 7:00pm\nLight refreshements will be served\nWest Grove Meetinghouse\n153 East Harmony Road\, West Grove\, PA
URL:http://westernquarterquakers.org/event/west-grove-meeting-christmas-candlelight-sing-along/
LOCATION:West Grove Meeting\, 153 East Harmony Road\, West Grove\, PA\, 19390\, United States
END:VEVENT
END:VCALENDAR