BEGIN:VCALENDAR
VERSION:2.0
PRODID:-//Western Quarterly Meeting - ECPv6.15.20//NONSGML v1.0//EN
CALSCALE:GREGORIAN
METHOD:PUBLISH
X-WR-CALNAME:Western Quarterly Meeting
X-ORIGINAL-URL:http://westernquarterquakers.org
X-WR-CALDESC:Events for Western Quarterly Meeting
REFRESH-INTERVAL;VALUE=DURATION:PT1H
X-Robots-Tag:noindex
X-PUBLISHED-TTL:PT1H
BEGIN:VTIMEZONE
TZID:America/New_York
BEGIN:DAYLIGHT
TZOFFSETFROM:-0500
TZOFFSETTO:-0400
TZNAME:EDT
DTSTART:20240310T070000
END:DAYLIGHT
BEGIN:STANDARD
TZOFFSETFROM:-0400
TZOFFSETTO:-0500
TZNAME:EST
DTSTART:20241103T060000
END:STANDARD
BEGIN:DAYLIGHT
TZOFFSETFROM:-0500
TZOFFSETTO:-0400
TZNAME:EDT
DTSTART:20250309T070000
END:DAYLIGHT
BEGIN:STANDARD
TZOFFSETFROM:-0400
TZOFFSETTO:-0500
TZNAME:EST
DTSTART:20251102T060000
END:STANDARD
BEGIN:DAYLIGHT
TZOFFSETFROM:-0500
TZOFFSETTO:-0400
TZNAME:EDT
DTSTART:20260308T070000
END:DAYLIGHT
BEGIN:STANDARD
TZOFFSETFROM:-0400
TZOFFSETTO:-0500
TZNAME:EST
DTSTART:20261101T060000
END:STANDARD
END:VTIMEZONE
BEGIN:VEVENT
DTSTART;TZID=America/New_York:20251213T140000
DTEND;TZID=America/New_York:20251213T160000
DTSTAMP:20260423T185253
CREATED:20251203T180604Z
LAST-MODIFIED:20251203T180604Z
UID:13849-1765634400-1765641600@westernquarterquakers.org
SUMMARY:Hockessin Wreaths of Peace and Carol Sing
DESCRIPTION:Friendly Carol Sing and Wreaths for Peace\nSaturday\, December 13\, Friendly Carol Sing and Wreaths for Peace\, 2 p.m.\nSing holiday songs together in the meeting room and then make a wreath or centerpiece that you can take home to show your support for peace in the world. We provide fresh-cut greenery and everything you might need.\nBring a friend. Free and open to all!\nIf you can donate fresh-cut greenery\, please deliver them to the Meetinghouse by Saturday morning\, December 13. Members and attenders are invited to come early to help arrange and decorate the Meetinghouse with fresh greens\, starting at 10 a.m. on December 13.\nQuestions? Contact Mark Parker Miller at friends@hockessinquakermeeting.org.
URL:http://westernquarterquakers.org/event/hockessin-wreaths-of-peace-and-carol-sing/
LOCATION:Hockessin Meeting\, 1501 Old Wilmington Road\, Hockessin\, DE\, 19707\, United States
END:VEVENT
END:VCALENDAR