BEGIN:VCALENDAR
VERSION:2.0
PRODID:-//Western Quarterly Meeting - ECPv6.15.20//NONSGML v1.0//EN
CALSCALE:GREGORIAN
METHOD:PUBLISH
X-WR-CALNAME:Western Quarterly Meeting
X-ORIGINAL-URL:http://westernquarterquakers.org
X-WR-CALDESC:Events for Western Quarterly Meeting
REFRESH-INTERVAL;VALUE=DURATION:PT1H
X-Robots-Tag:noindex
X-PUBLISHED-TTL:PT1H
BEGIN:VTIMEZONE
TZID:America/New_York
BEGIN:DAYLIGHT
TZOFFSETFROM:-0500
TZOFFSETTO:-0400
TZNAME:EDT
DTSTART:20240310T070000
END:DAYLIGHT
BEGIN:STANDARD
TZOFFSETFROM:-0400
TZOFFSETTO:-0500
TZNAME:EST
DTSTART:20241103T060000
END:STANDARD
BEGIN:DAYLIGHT
TZOFFSETFROM:-0500
TZOFFSETTO:-0400
TZNAME:EDT
DTSTART:20250309T070000
END:DAYLIGHT
BEGIN:STANDARD
TZOFFSETFROM:-0400
TZOFFSETTO:-0500
TZNAME:EST
DTSTART:20251102T060000
END:STANDARD
BEGIN:DAYLIGHT
TZOFFSETFROM:-0500
TZOFFSETTO:-0400
TZNAME:EDT
DTSTART:20260308T070000
END:DAYLIGHT
BEGIN:STANDARD
TZOFFSETFROM:-0400
TZOFFSETTO:-0500
TZNAME:EST
DTSTART:20261101T060000
END:STANDARD
END:VTIMEZONE
BEGIN:VEVENT
DTSTART;TZID=America/New_York:20251221T150000
DTEND;TZID=America/New_York:20251221T170000
DTSTAMP:20260423T191436
CREATED:20251110T232947Z
LAST-MODIFIED:20251110T232947Z
UID:13844-1766329200-1766336400@westernquarterquakers.org
SUMMARY:Community Rising
DESCRIPTION:Community Rising facilitated session. Sunday\, October 19th\, 3-5 pm. Kennett Friends Meeting\, 125 W. Sickle Street\, Kennett Square PA 19390. \nCommunity Rising is a monthly facilitated gathering that brings together neighbors\, leaders\, and voices from diverse walks of life to reflect on the challenges facing our nation and our local communities. Rooted in honesty and hope\, the circle creates space for people to share concerns\, listen deeply across differences\, and imagine new possibilities for renewal. Each session blends open dialogue with guided reflection\, helping participants move beyond division toward common ground. By coming together regularly\, Community Rising seeks to nurture connection\, courage\, and collective action for the common good.
URL:http://westernquarterquakers.org/event/community-rising-3/
LOCATION:Kennett Friends Meeting\, 125 W. Sickle Street\, Kennett Square \, PA\, 19348\, United States
END:VEVENT
BEGIN:VEVENT
DTSTART;TZID=America/New_York:20251221T180000
DTEND;TZID=America/New_York:20251221T200000
DTSTAMP:20260423T191436
CREATED:20251203T200722Z
LAST-MODIFIED:20251203T200722Z
UID:13860-1766340000-1766347200@westernquarterquakers.org
SUMMARY:London Grove Meeting Nativity Pageant
DESCRIPTION:6:00 p.m. on the evening of December 21\nLondon Grove Friends Meeting Nativity Pageant\nThe children enact the story of Jesus’s birth as it is read from the Bible\, and the Meeting sings the carols that tell the story. The pageant ends with everyone singing “Silent Night” by candlelight before adjourning to the social room for refreshments and more Christmas fun.
URL:http://westernquarterquakers.org/event/london-grove-meeting-nativity-pageant/
LOCATION:London Grove Friends Meeting\, 500 W. Street Road \, Kennett Square\, 19344\, United States
END:VEVENT
END:VCALENDAR