BEGIN:VCALENDAR
VERSION:2.0
PRODID:-//Western Quarterly Meeting - ECPv6.15.20//NONSGML v1.0//EN
CALSCALE:GREGORIAN
METHOD:PUBLISH
X-WR-CALNAME:Western Quarterly Meeting
X-ORIGINAL-URL:http://westernquarterquakers.org
X-WR-CALDESC:Events for Western Quarterly Meeting
REFRESH-INTERVAL;VALUE=DURATION:PT1H
X-Robots-Tag:noindex
X-PUBLISHED-TTL:PT1H
BEGIN:VTIMEZONE
TZID:America/New_York
BEGIN:DAYLIGHT
TZOFFSETFROM:-0500
TZOFFSETTO:-0400
TZNAME:EDT
DTSTART:20250309T070000
END:DAYLIGHT
BEGIN:STANDARD
TZOFFSETFROM:-0400
TZOFFSETTO:-0500
TZNAME:EST
DTSTART:20251102T060000
END:STANDARD
BEGIN:DAYLIGHT
TZOFFSETFROM:-0500
TZOFFSETTO:-0400
TZNAME:EDT
DTSTART:20260308T070000
END:DAYLIGHT
BEGIN:STANDARD
TZOFFSETFROM:-0400
TZOFFSETTO:-0500
TZNAME:EST
DTSTART:20261101T060000
END:STANDARD
BEGIN:DAYLIGHT
TZOFFSETFROM:-0500
TZOFFSETTO:-0400
TZNAME:EDT
DTSTART:20270314T070000
END:DAYLIGHT
BEGIN:STANDARD
TZOFFSETFROM:-0400
TZOFFSETTO:-0500
TZNAME:EST
DTSTART:20271107T060000
END:STANDARD
END:VTIMEZONE
BEGIN:VEVENT
DTSTART;TZID=America/New_York:20260118T090000
DTEND;TZID=America/New_York:20260118T170000
DTSTAMP:20260423T173202
CREATED:20240916T000840Z
LAST-MODIFIED:20260102T162438Z
UID:13444-1768726800-1768755600@westernquarterquakers.org
SUMMARY:Western Quarterly Meeting Hosted by Newark Friends Meeting
DESCRIPTION:Gathering to be held at Kennett Friends Meeting\n125 West Sickle St – Kennett Square\nFLYER!\n9:15 AM  – welcome and morning fellowship\n9:45am – Altogether worship\n10:00am – worship continues and children go to program with storyteller Clem Bowen\n10:45am – Chris Mohr\, PYM General Secretary will speak with friends; children’s programing comintues\n12:00 – lunch\n1:00om – meeting for worship with attention to business\nhttps://us02web.zoom.us/j/92668234836 \nKennet Meetinghouse has a chair lift to help friends go between levels. There is a ramp from the sidewalk to the front door facing the street. The entrance to the lower level has no stairs to negotiate from the parking lot. \n 
URL:http://westernquarterquakers.org/event/quarterly-meeting-hosted-by-newark-friends-meeting/
LOCATION:Kennett Friends Meeting\, 125 W. Sickle Street\, Kennett Square \, PA\, 19348\, United States
END:VEVENT
BEGIN:VEVENT
DTSTART;TZID=America/New_York:20260118T140000
DTEND;TZID=America/New_York:20260118T160000
DTSTAMP:20260423T173202
CREATED:20251110T233050Z
LAST-MODIFIED:20251227T232301Z
UID:13846-1768744800-1768752000@westernquarterquakers.org
SUMMARY:Community Rising
DESCRIPTION:Community Rising facilitated session. Sunday\, October 19th\, 3-5 pm. Kennett Friends Meeting\, 125 W. Sickle Street\, Kennett Square PA 19390. \nCommunity Rising is a monthly facilitated gathering that brings together neighbors\, leaders\, and voices from diverse walks of life to reflect on the challenges facing our nation and our local communities. Rooted in honesty and hope\, the circle creates space for people to share concerns\, listen deeply across differences\, and imagine new possibilities for renewal. Each session blends open dialogue with guided reflection\, helping participants move beyond division toward common ground. By coming together regularly\, Community Rising seeks to nurture connection\, courage\, and collective action for the common good.
URL:http://westernquarterquakers.org/event/community-rising-4/
LOCATION:Kennett Friends Meeting\, 125 W. Sickle Street\, Kennett Square \, PA\, 19348\, United States
END:VEVENT
END:VCALENDAR