BEGIN:VCALENDAR
VERSION:2.0
PRODID:-//Western Quarterly Meeting - ECPv6.15.20//NONSGML v1.0//EN
CALSCALE:GREGORIAN
METHOD:PUBLISH
X-WR-CALNAME:Western Quarterly Meeting
X-ORIGINAL-URL:http://westernquarterquakers.org
X-WR-CALDESC:Events for Western Quarterly Meeting
REFRESH-INTERVAL;VALUE=DURATION:PT1H
X-Robots-Tag:noindex
X-PUBLISHED-TTL:PT1H
BEGIN:VTIMEZONE
TZID:America/New_York
BEGIN:DAYLIGHT
TZOFFSETFROM:-0500
TZOFFSETTO:-0400
TZNAME:EDT
DTSTART:20250309T070000
END:DAYLIGHT
BEGIN:STANDARD
TZOFFSETFROM:-0400
TZOFFSETTO:-0500
TZNAME:EST
DTSTART:20251102T060000
END:STANDARD
BEGIN:DAYLIGHT
TZOFFSETFROM:-0500
TZOFFSETTO:-0400
TZNAME:EDT
DTSTART:20260308T070000
END:DAYLIGHT
BEGIN:STANDARD
TZOFFSETFROM:-0400
TZOFFSETTO:-0500
TZNAME:EST
DTSTART:20261101T060000
END:STANDARD
BEGIN:DAYLIGHT
TZOFFSETFROM:-0500
TZOFFSETTO:-0400
TZNAME:EDT
DTSTART:20270314T070000
END:DAYLIGHT
BEGIN:STANDARD
TZOFFSETFROM:-0400
TZOFFSETTO:-0500
TZNAME:EST
DTSTART:20271107T060000
END:STANDARD
BEGIN:DAYLIGHT
TZOFFSETFROM:-0500
TZOFFSETTO:-0400
TZNAME:EDT
DTSTART:20280312T070000
END:DAYLIGHT
BEGIN:STANDARD
TZOFFSETFROM:-0400
TZOFFSETTO:-0500
TZNAME:EST
DTSTART:20281105T060000
END:STANDARD
END:VTIMEZONE
BEGIN:VEVENT
DTSTART;TZID=America/New_York:20260503T130000
DTEND;TZID=America/New_York:20260503T170000
DTSTAMP:20260423T101838
CREATED:20260316T221829Z
LAST-MODIFIED:20260316T221829Z
UID:13967-1777813200-1777827600@westernquarterquakers.org
SUMMARY:Friends Historical Association - Stenton
DESCRIPTION:Join us for the Friends Historical Association’s Annual Spring Event!\nSunday\, May 3 2026 1:00pm \nStenton\, the Logan Family Home\n4601 North 18th Street\, Philadelphia PA 19140 \nClick here to register! \nWe invite you to join us on Sunday\, May 3\, 2026\, at 1:00 PM for our annual spring event! This year\, we will enjoy a guided tour of Stenton\, the Logan Family Home in Philadelphia\, PA. \nParticipants are also welcome to meet for worship at 10:30 AM beforehand\, location TBA. (Please note your interest on the registration form or respond to this email!) \nTo sign up for the 2026 Spring Event\, please register as soon as possible. \n \nFor our spring tour this year\, FHA has arranged a visit to Stenton\, the Logan family home which was completed by James Logan\, William Penn’s secretary\, in 1730. In addition to touring the house\, we will also have a chance to hear from their curator\, Laura Keim\, about Stenton’s ongoing research initiative\, “Wrestling with Justice: Quakers and Northern Slavery.” A transformative Pew-Funded project\, “Wrestling with Justice” reinterprets the site by challenging the misconceptions that slavery existed solely in the American South and that Quakers were universally abolitionists. At Stenton\, the Logan family enslaved\, indentured\, and manumitted people. This exhibit encourages visitors to reflect on the complex history of Quakers and slavery\, and the legacies of this history in the present day. \nParking is available on the Stenton property\, but they are also convenient to SEPTA public transit. If you need a ride or have room in your car\, please indicate that upon registration and we will try to coordinate carpools. Please see their site for directions and additional information\, https://www.stenton.org/visit. \nStenton also invites anyone who wishes to bring a bag lunch to eat on the premises before the scheduled tour at 1:00 PM.\n\n\n\n\n\n\n\n\n\n\n\n\n\n\nREGISTER NOW
URL:http://westernquarterquakers.org/event/friends-historical-association-stenton/
LOCATION:Stenton\, 4601 N. 18th St\, Philadelphia\, PA\, United States
ORGANIZER;CN="Friends Historical Association":MAILTO:fha@haverford.edu
END:VEVENT
BEGIN:VEVENT
DTSTART;TZID=America/New_York:20260719T080000
DTEND;TZID=America/New_York:20260719T170000
DTSTAMP:20260423T101838
CREATED:20240916T001052Z
LAST-MODIFIED:20240916T001052Z
UID:13448-1784448000-1784480400@westernquarterquakers.org
SUMMARY:Joint Quarterly Meeting
DESCRIPTION:
URL:http://westernquarterquakers.org/event/joint-quarterly-meeting-4/
LOCATION:PA
END:VEVENT
BEGIN:VEVENT
DTSTART;TZID=America/New_York:20261018T080000
DTEND;TZID=America/New_York:20261018T170000
DTSTAMP:20260423T101838
CREATED:20240916T001214Z
LAST-MODIFIED:20240916T001214Z
UID:13450-1792310400-1792342800@westernquarterquakers.org
SUMMARY:Western Quarterly Meeting at West Grove Meeting
DESCRIPTION:
URL:http://westernquarterquakers.org/event/western-quarterly-meeting-at-west-grove-meeting/
LOCATION:West Grove Meeting\, 153 East Harmony Road\, West Grove\, PA\, 19390\, United States
END:VEVENT
BEGIN:VEVENT
DTSTART;TZID=America/New_York:20270117T080000
DTEND;TZID=America/New_York:20270117T170000
DTSTAMP:20260423T101838
CREATED:20240916T001448Z
LAST-MODIFIED:20240916T001448Z
UID:13452-1800172800-1800205200@westernquarterquakers.org
SUMMARY:Western Quarterly Meeting at Kennett Friends Meeting
DESCRIPTION:
URL:http://westernquarterquakers.org/event/western-quarterly-meeting-at-kennett-friends-meeting/
LOCATION:Kennett Friends Meeting\, 125 W. Sickle Street\, Kennett Square \, PA\, 19348\, United States
END:VEVENT
BEGIN:VEVENT
DTSTART;TZID=America/New_York:20270418T080000
DTEND;TZID=America/New_York:20270418T170000
DTSTAMP:20260423T101838
CREATED:20240916T001651Z
LAST-MODIFIED:20240916T001651Z
UID:13454-1808035200-1808067600@westernquarterquakers.org
SUMMARY:Western Quarterly Meeting at Fallowfield
DESCRIPTION:
URL:http://westernquarterquakers.org/event/western-quarterly-meeting-at-fallowfield/
LOCATION:Fallowfield Monthly Meeting\, 800 Doe Run Road\, Coatesville\, PA\, 19320\, United States
END:VEVENT
END:VCALENDAR