BEGIN:VCALENDAR
VERSION:2.0
PRODID:-//Western Quarterly Meeting - ECPv6.15.20//NONSGML v1.0//EN
CALSCALE:GREGORIAN
METHOD:PUBLISH
X-WR-CALNAME:Western Quarterly Meeting
X-ORIGINAL-URL:http://westernquarterquakers.org
X-WR-CALDESC:Events for Western Quarterly Meeting
REFRESH-INTERVAL;VALUE=DURATION:PT1H
X-Robots-Tag:noindex
X-PUBLISHED-TTL:PT1H
BEGIN:VTIMEZONE
TZID:America/New_York
BEGIN:DAYLIGHT
TZOFFSETFROM:-0500
TZOFFSETTO:-0400
TZNAME:EDT
DTSTART:20240310T070000
END:DAYLIGHT
BEGIN:STANDARD
TZOFFSETFROM:-0400
TZOFFSETTO:-0500
TZNAME:EST
DTSTART:20241103T060000
END:STANDARD
BEGIN:DAYLIGHT
TZOFFSETFROM:-0500
TZOFFSETTO:-0400
TZNAME:EDT
DTSTART:20250309T070000
END:DAYLIGHT
BEGIN:STANDARD
TZOFFSETFROM:-0400
TZOFFSETTO:-0500
TZNAME:EST
DTSTART:20251102T060000
END:STANDARD
BEGIN:DAYLIGHT
TZOFFSETFROM:-0500
TZOFFSETTO:-0400
TZNAME:EDT
DTSTART:20260308T070000
END:DAYLIGHT
BEGIN:STANDARD
TZOFFSETFROM:-0400
TZOFFSETTO:-0500
TZNAME:EST
DTSTART:20261101T060000
END:STANDARD
END:VTIMEZONE
BEGIN:VEVENT
DTSTART;TZID=America/New_York:20250422T160000
DTEND;TZID=America/New_York:20250422T173000
DTSTAMP:20260424T053030
CREATED:20250405T153449Z
LAST-MODIFIED:20250411T233203Z
UID:13648-1745337600-1745343000@westernquarterquakers.org
SUMMARY:David Gray - Friends School in Brummana\, Lebanon
DESCRIPTION:FLYER \nBrummana School Info
URL:http://westernquarterquakers.org/event/david-gray-friends-school-in-brummana-lebanon/
LOCATION:Kendal Monthly Meeting\, 225 Kendal Drive\, Kennett Square\, PA\, 19348\, United States
END:VEVENT
BEGIN:VEVENT
DTSTART;TZID=America/New_York:20250427T084500
DTEND;TZID=America/New_York:20250427T150000
DTSTAMP:20260424T053030
CREATED:20240916T000335Z
LAST-MODIFIED:20250411T185607Z
UID:13438-1745743500-1745766000@westernquarterquakers.org
SUMMARY:Western Quarterly Meeting at Mill Creek
DESCRIPTION:8:45am – breakfast and fellowship\n9:30am – all ages program on PERSPECTIVE\n10:30am-11:15am – meeting for worship\n1:00pm – virtual meeting for business on WQ Zoom – 926 6823 4836 WQM-MFW\nat Mill Creek Friends Meeting\n1140 Doe Roe Rd\, Newark\, DE
URL:http://westernquarterquakers.org/event/quarterly-meeting-at-mill-creek-2/
LOCATION:Mill Creek Monthly Meeting\, 1140 Doe Run Road\, Newark\, 19711
END:VEVENT
END:VCALENDAR