BEGIN:VCALENDAR
VERSION:2.0
PRODID:-//Western Quarterly Meeting - ECPv6.15.20//NONSGML v1.0//EN
CALSCALE:GREGORIAN
METHOD:PUBLISH
X-WR-CALNAME:Western Quarterly Meeting
X-ORIGINAL-URL:http://westernquarterquakers.org
X-WR-CALDESC:Events for Western Quarterly Meeting
REFRESH-INTERVAL;VALUE=DURATION:PT1H
X-Robots-Tag:noindex
X-PUBLISHED-TTL:PT1H
BEGIN:VTIMEZONE
TZID:America/New_York
BEGIN:DAYLIGHT
TZOFFSETFROM:-0500
TZOFFSETTO:-0400
TZNAME:EDT
DTSTART:20240310T070000
END:DAYLIGHT
BEGIN:STANDARD
TZOFFSETFROM:-0400
TZOFFSETTO:-0500
TZNAME:EST
DTSTART:20241103T060000
END:STANDARD
BEGIN:DAYLIGHT
TZOFFSETFROM:-0500
TZOFFSETTO:-0400
TZNAME:EDT
DTSTART:20250309T070000
END:DAYLIGHT
BEGIN:STANDARD
TZOFFSETFROM:-0400
TZOFFSETTO:-0500
TZNAME:EST
DTSTART:20251102T060000
END:STANDARD
BEGIN:DAYLIGHT
TZOFFSETFROM:-0500
TZOFFSETTO:-0400
TZNAME:EDT
DTSTART:20260308T070000
END:DAYLIGHT
BEGIN:STANDARD
TZOFFSETFROM:-0400
TZOFFSETTO:-0500
TZNAME:EST
DTSTART:20261101T060000
END:STANDARD
END:VTIMEZONE
BEGIN:VEVENT
DTSTART;TZID=America/New_York:20250514T170000
DTEND;TZID=America/New_York:20250514T200000
DTSTAMP:20260424T035425
CREATED:20250424T113826Z
LAST-MODIFIED:20250424T113840Z
UID:13662-1747242000-1747252800@westernquarterquakers.org
SUMMARY:Quaker Walk comes to Western Quarter
DESCRIPTION:London Grove Friends hosts the Quaker Walk\nMay 14 at 5pm welcome and potluck – all welcome\nTo learn more about the walk and to join for a stretch – go to \nquakerwalk2025.org 
URL:http://westernquarterquakers.org/event/quaker-walk-comes-to-western-quarter/
LOCATION:London Grove Friends Meeting\, 500 W. Street Road \, Kennett Square\, 19344\, United States
END:VEVENT
BEGIN:VEVENT
DTSTART;TZID=America/New_York:20250515T130000
DTEND;TZID=America/New_York:20250515T143000
DTSTAMP:20260424T035425
CREATED:20250514T002318Z
LAST-MODIFIED:20250514T002318Z
UID:13681-1747314000-1747319400@westernquarterquakers.org
SUMMARY:2025 Joint Nakba Meorial
DESCRIPTION:“The Joint Nakba Remembrance Ceremony is a unique opportunity to\ncommemorate the pain and tragedy of the Nakba (“catastrophe” in Arabic)\, when\nin 1948 more than 700\,000 Palestinians were forcibly expelled from their homes\,\nbecame refugees\, and had their villages and cities destroyed. In Israel\, even\nmentioning the Nakba is completely taboo; however\, Combatants for Peace\nbelieves that peace and reconciliation involve a sincere and honest reckoning with\nthis history that didn’t end in 1948 but continues until this day.” \n\nAn opportunity to view this hour-long ceremony in community with others:  \n  \nThursday\, May 15 1:00pm – Westtown Meetinghouse at Westtown School \n215 Friends Meeting Lane\, West Chester – Use the East Entrance and park in the lot on the right \nfor East Entrance use 960 Shady Grove Road\, West Chester – walk down East School Lane to the stone Meetinghouse
URL:http://westernquarterquakers.org/event/2025-joint-nakba-meorial/
LOCATION:Westtown Meeting\, 215 Friends Meeting Lane\, West Chester\, PA\, 19382
CATEGORIES:Adult
END:VEVENT
END:VCALENDAR