BEGIN:VCALENDAR
VERSION:2.0
PRODID:-//Western Quarterly Meeting - ECPv6.15.20//NONSGML v1.0//EN
CALSCALE:GREGORIAN
METHOD:PUBLISH
X-WR-CALNAME:Western Quarterly Meeting
X-ORIGINAL-URL:http://westernquarterquakers.org
X-WR-CALDESC:Events for Western Quarterly Meeting
REFRESH-INTERVAL;VALUE=DURATION:PT1H
X-Robots-Tag:noindex
X-PUBLISHED-TTL:PT1H
BEGIN:VTIMEZONE
TZID:America/New_York
BEGIN:DAYLIGHT
TZOFFSETFROM:-0500
TZOFFSETTO:-0400
TZNAME:EDT
DTSTART:20240310T070000
END:DAYLIGHT
BEGIN:STANDARD
TZOFFSETFROM:-0400
TZOFFSETTO:-0500
TZNAME:EST
DTSTART:20241103T060000
END:STANDARD
BEGIN:DAYLIGHT
TZOFFSETFROM:-0500
TZOFFSETTO:-0400
TZNAME:EDT
DTSTART:20250309T070000
END:DAYLIGHT
BEGIN:STANDARD
TZOFFSETFROM:-0400
TZOFFSETTO:-0500
TZNAME:EST
DTSTART:20251102T060000
END:STANDARD
BEGIN:DAYLIGHT
TZOFFSETFROM:-0500
TZOFFSETTO:-0400
TZNAME:EDT
DTSTART:20260308T070000
END:DAYLIGHT
BEGIN:STANDARD
TZOFFSETFROM:-0400
TZOFFSETTO:-0500
TZNAME:EST
DTSTART:20261101T060000
END:STANDARD
END:VTIMEZONE
BEGIN:VEVENT
DTSTART;TZID=America/New_York:20251011T110000
DTEND;TZID=America/New_York:20251011T150000
DTSTAMP:20260423T202201
CREATED:20250917T230455Z
LAST-MODIFIED:20250917T231629Z
UID:13767-1760180400-1760194800@westernquarterquakers.org
SUMMARY:Friendly Fun Day!
DESCRIPTION:October 11 from 11am-3pm at Hockessin Meeting\nMusic\, Crafts\, Games\, Food\, and more!\n1501 Old Wilmington Road\, Hockessin\, DE 19707\nflyer for FFD\n 
URL:http://westernquarterquakers.org/event/friendly-fun-day-2/
LOCATION:Hockessin Meeting\, 1501 Old Wilmington Road\, Hockessin\, DE\, 19707\, United States
ATTACH;FMTTYPE=image/png:http://westernquarterquakers.org/wp-content/uploads/2025/09/Screenshot-2025-09-17-7.00.14-PM.png
END:VEVENT
BEGIN:VEVENT
DTSTART;TZID=America/New_York:20251015T183000
DTEND;TZID=America/New_York:20251016T200000
DTSTAMP:20260423T202201
CREATED:20251004T215346Z
LAST-MODIFIED:20251004T215407Z
UID:13802-1760553000-1760644800@westernquarterquakers.org
SUMMARY:A Conversation about AWE
DESCRIPTION:AWE 20251015 – flyer \nWednesday\, October 16 6:30pm – Zoom Link: AWE at WFM\nhosted by Susan Ploeg and Mary Leahan of Willistown Friends Meeting Religious Education Committee\n“Awe is the feeling of being in the presence of something vast that transcends your current understanding of the world.” – Dacher Keltner\nJoin this discussion of how we are experiencing moments of awe\, whether by nature\, moral beauty\, collective effervescence or any way it arrives. \nThe discussion is inspired by the “Awe” book\, but you do not need to read the book to actively participate. You can purchase a copy from Bookshop.org here. \nYou may enjoy listening to the interview with the author by Krista Tippett on the “On Being” podcast found at: Awe and a Meaningful Life Why Awe is Such an Important Emotion \n 
URL:http://westernquarterquakers.org/event/a-conversation-about-awe/
LOCATION:PA
ORGANIZER;CN="Willistown Friends Meeting":MAILTO:tanya@willistownfriendsmeeting.org
END:VEVENT
BEGIN:VEVENT
DTSTART;TZID=America/New_York:20251017T100000
DTEND;TZID=America/New_York:20251017T130000
DTSTAMP:20260423T202201
CREATED:20251011T133623Z
LAST-MODIFIED:20251011T133736Z
UID:13809-1760695200-1760706000@westernquarterquakers.org
SUMMARY:Rethink Poverty - Poverty Simulation
DESCRIPTION:Kennett Area Community Service and others bring to our communities a chance to learn about poverty. \nWe are writing to personally invite you and your networks to a powerful event designed to deepen our community’s understanding of the challenges of poverty. On Friday\, October 17th\, from 10 AM to 1 PM\, several Chester County organizations\, including KACS\, will be co-hosting a Poverty Simulation at the Lutheran Church of the Good Shepherd in Coatesville. \nThis interactive experience is more than just a presentation; it’s a chance to walk in someone else’s shoes. Participants take on the roles of families\, making difficult\, real-world decisions about how to budget limited resources and navigate complex systems. Meanwhile\, volunteers staff crucial community stations\, from banks and schools to employers\, seeing firsthand how systemic barriers impact daily life. \nThe simulation’s impact is transformative. It fosters empathy and a deeper perspective on the difficult choices many families face—like having to choose between paying rent\, buying food\, or getting necessary medication. For elected officials\, social leaders\, and faith community members\, this is an invaluable opportunity to: \n\nGain firsthand insight into the daily struggles of your constituents and community members.\n\n\nIdentify systemic barriers and understand how policies directly affect people’s lives.\n\n\nConnect with other leaders dedicated to finding collaborative solutions to poverty.\n\nWe would like to encourage you to participate and to share this invitation within your network. This event is free and open to all\, but registration is required. By coming together\, we can learn\, reflect\, and take meaningful action to build a more supportive community. \nRegister as a participant: tinyurl.com/PovSim25 \n  \n 
URL:http://westernquarterquakers.org/event/rethink-poverty-poverty-simulation/
LOCATION:PA
END:VEVENT
BEGIN:VEVENT
DTSTART;TZID=America/New_York:20251019T084500
DTEND;TZID=America/New_York:20251019T143000
DTSTAMP:20260423T202201
CREATED:20240916T000628Z
LAST-MODIFIED:20250921T214019Z
UID:13442-1760863500-1760884200@westernquarterquakers.org
SUMMARY:Western Quarterly Meeting at London Grove
DESCRIPTION:8:45 – 9:30 AM Welcome and Morning Fellowship\n        Coffee\, Cider\, and Baked Goods\n9:30 – 10:15 AM Meeting for Worship – All Together!\n10:15-11:45AM Childrens Program –  a play!\nThe Mixing Stick to be performed about 11:45am\n10:45 -11:45 AM Program:\nSupporting Our Migrant Neighbors\nGonzalo Cano from KACS (Kennett Area Community Services)\nand\nMelissa Pacella from SILO (Serving\, Inspiring\, and Loving\nOthers) in Oxford)\nEach will talk about current emergency situations among the\npeople they serve–our neighbors\, and how we can help.\n12:00 – 1:00 Lunch\nLondon Grove invites us to share in their traditional October\nFrugal Meal.\n1:00pm – meeting for worship with attention to business\nZoom Link: https://us02web.zoom.us/j/89274173199\nQuarterly Meeting Flyer
URL:http://westernquarterquakers.org/event/quarterly-meeting-at-london-grove/
LOCATION:London Grove Friends Meeting\, 500 W. Street Road \, Kennett Square\, 19344\, United States
ATTACH;FMTTYPE=image/png:http://westernquarterquakers.org/wp-content/uploads/2025/09/Screenshot-2025-09-15-8.39.22-PM.png
END:VEVENT
BEGIN:VEVENT
DTSTART;TZID=America/New_York:20251019T150000
DTEND;TZID=America/New_York:20251019T170000
DTSTAMP:20260423T202201
CREATED:20251011T133931Z
LAST-MODIFIED:20251110T232641Z
UID:13815-1760886000-1760893200@westernquarterquakers.org
SUMMARY:Community Rising
DESCRIPTION:Community Rising facilitated session. Sunday\, October 19th\, 3-5 pm. Kennett Friends Meeting\, 125 W. Sickle Street\, Kennett Square PA 19390. \nCommunity Rising is a monthly facilitated gathering that brings together neighbors\, leaders\, and voices from diverse walks of life to reflect on the challenges facing our nation and our local communities. Rooted in honesty and hope\, the circle creates space for people to share concerns\, listen deeply across differences\, and imagine new possibilities for renewal. Each session blends open dialogue with guided reflection\, helping participants move beyond division toward common ground. By coming together regularly\, Community Rising seeks to nurture connection\, courage\, and collective action for the common good.
URL:http://westernquarterquakers.org/event/community-rising/
LOCATION:Kennett Friends Meeting\, 125 W. Sickle Street\, Kennett Square \, PA\, 19348\, United States
END:VEVENT
END:VCALENDAR