BEGIN:VCALENDAR
VERSION:2.0
PRODID:-//Western Quarterly Meeting - ECPv6.15.20//NONSGML v1.0//EN
CALSCALE:GREGORIAN
METHOD:PUBLISH
X-WR-CALNAME:Western Quarterly Meeting
X-ORIGINAL-URL:http://westernquarterquakers.org
X-WR-CALDESC:Events for Western Quarterly Meeting
REFRESH-INTERVAL;VALUE=DURATION:PT1H
X-Robots-Tag:noindex
X-PUBLISHED-TTL:PT1H
BEGIN:VTIMEZONE
TZID:America/New_York
BEGIN:DAYLIGHT
TZOFFSETFROM:-0500
TZOFFSETTO:-0400
TZNAME:EDT
DTSTART:20250309T070000
END:DAYLIGHT
BEGIN:STANDARD
TZOFFSETFROM:-0400
TZOFFSETTO:-0500
TZNAME:EST
DTSTART:20251102T060000
END:STANDARD
BEGIN:DAYLIGHT
TZOFFSETFROM:-0500
TZOFFSETTO:-0400
TZNAME:EDT
DTSTART:20260308T070000
END:DAYLIGHT
BEGIN:STANDARD
TZOFFSETFROM:-0400
TZOFFSETTO:-0500
TZNAME:EST
DTSTART:20261101T060000
END:STANDARD
BEGIN:DAYLIGHT
TZOFFSETFROM:-0500
TZOFFSETTO:-0400
TZNAME:EDT
DTSTART:20270314T070000
END:DAYLIGHT
BEGIN:STANDARD
TZOFFSETFROM:-0400
TZOFFSETTO:-0500
TZNAME:EST
DTSTART:20271107T060000
END:STANDARD
END:VTIMEZONE
BEGIN:VEVENT
DTSTART;TZID=America/New_York:20260214T090000
DTEND;TZID=America/New_York:20260214T150000
DTSTAMP:20260423T144027
CREATED:20260203T142349Z
LAST-MODIFIED:20260203T142349Z
UID:13905-1771059600-1771081200@westernquarterquakers.org
SUMMARY:Basket Weaving
DESCRIPTION:Please register by February 5!\nHello Friends\,\nCrafts are a wonderful way to be in the moment\, and making crafts together cultivates connection.\nWe have the opportunity to learn basket making from a seasoned master and teacher of the craft\, Joan Betzhold\, from Bel Air\, Maryland. She is offering to provide us with a hands-on introduction to basket making.\nWhen: Saturday\, February 14th from 9-3pm\nWhere: Centre Monthly Meeting’s Schoolhouse (400 Centre Meeting Rd. Centerville DE).\nFee: $60 per person (bring check or cash to the class) plus a small optional donation to Centre Meeting to help cover maintenance costs.\nPlease let me know by February 5th if you are able to attend. Openings are limited. Simply email me at carmdarro@gmail.com.\nLooking forward to weaving together!\nCarmelina
URL:http://westernquarterquakers.org/event/basket-weaving/
LOCATION:Centre Monthly Meeting\, Centre Meeting Road and Adams Dam Road\, Greenville\, DE\, United States
END:VEVENT
BEGIN:VEVENT
DTSTART;TZID=America/New_York:20260221T090000
DTEND;TZID=America/New_York:20260221T170000
DTSTAMP:20260423T144027
CREATED:20260203T144627Z
LAST-MODIFIED:20260203T144627Z
UID:13909-1771664400-1771693200@westernquarterquakers.org
SUMMARY:Introduction to Noncooperation Nonviolent Strategic Organizing
DESCRIPTION:Click on the QR code in the FLYER to register.\n9am-5pm Saturday\, Feb. 21 at Kennett Friends Meeting – 125 West Sickle St\, Kennett Square\nFacilitated by Ricky Schulz and Joey Brodsky of Freedom Trainer Network\nSnacks\, drinks provided. Please bring your own lunch or get takeout.
URL:http://westernquarterquakers.org/event/introduction-to-noncooperation-nonviolent-strategic-organizing/
LOCATION:Kennett Friends Meeting\, 125 W. Sickle Street\, Kennett Square \, PA\, 19348\, United States
END:VEVENT
BEGIN:VEVENT
DTSTART;TZID=America/New_York:20260222T130000
DTEND;TZID=America/New_York:20260222T160000
DTSTAMP:20260423T144027
CREATED:20260205T005714Z
LAST-MODIFIED:20260205T005714Z
UID:13915-1771765200-1771776000@westernquarterquakers.org
SUMMARY:Let Us Stand With Jesus Against Violent Power
DESCRIPTION:A Micro-Conference on Responding to the Crisis of Mainstream Christianity \n\nSunday\, February 22\n1:00–4:00 PM (Lunch included)\n15 Rutherford Place\, New York\, NY\nFree Community Event\nEvent Link https://www.eventbrite.com/e/1980704296871?aff=oddtdtcreator \n\nThis gathering is rooted in the Quaker testimony of peace and seeks to address the widening gap between the radical\, nonviolent teachings of Jesus and the complicity of dominant Christian institutions in violence\, nationalism\, and state power. Together\, we will reflect\, listen\, and discern how Friends and allies are called to respond faithfully in this moment of moral crisis. \nThe afternoon will include speakers\, facilitated discussion\, activist workshops\, small-group action planning\, and large-group sharing. \nFeaturing Speakers: \n\nRev. John Thatamanil\nAmanda Daloisio\nMarah Sarfi\n\nThank you for your ongoing witness to peace\, integrity\, and justice. We are grateful for your support in helping this invitation reach Friends who may feel led to attend. \nIn Friendship\, \nJill\nJillian Maxwell\nOn behalf of Fifteenth Street Friends Meeting
URL:http://westernquarterquakers.org/event/let-us-stand-with-jesus-against-violent-power/
LOCATION:PA
END:VEVENT
END:VCALENDAR